BEGIN:VCALENDAR
VERSION:2.0
PRODID:-//espaieros.com - ECPv5.16.1.1//NONSGML v1.0//EN
CALSCALE:GREGORIAN
METHOD:PUBLISH
X-ORIGINAL-URL:https://espaieros.com
X-WR-CALDESC:Eventos para espaieros.com
REFRESH-INTERVAL;VALUE=DURATION:PT1H
X-Robots-Tag:noindex
X-PUBLISHED-TTL:PT1H
BEGIN:VTIMEZONE
TZID:UTC
BEGIN:STANDARD
TZOFFSETFROM:+0000
TZOFFSETTO:+0000
TZNAME:UTC
DTSTART:20230101T000000
END:STANDARD
END:VTIMEZONE
BEGIN:VEVENT
DTSTART;TZID=UTC:20230118T183000
DTEND;TZID=UTC:20230118T200000
DTSTAMP:20260423T043514
CREATED:20221024T192430Z
LAST-MODIFIED:20230111T190951Z
UID:368-1674066600-1674072000@espaieros.com
SUMMARY:Círculo de Hombres Eros - Grupo 2
DESCRIPTION:¿Qué es el Círculo de Hombres Eros? \nLos hombres gais necesitamos un espacio seguro donde mirarnos por dentro ya que cada uno hemos vivido nuestros procesos personales de diferentes maneras y ritmos\, nuestras salidas o no del armario nos han condicionado a poder llevar la sexualidad de una manera u otra\, por lo mismo\, este espacio entre pares nos permite expresar a nivel vivencial nuestras experiencias en un ambiente íntimo y de confidencialidad.  \nPor eso en la realización de estos encuentros no existen normas ni convenios\, solo se debe respetar y preservar la confidencialidad e intimidad de los asuntos que allí se traten.  \nGrupo Cerrado  – Aforo Completo \n  \nSi estas interesado en participar en los nuevos Grupos apuntate aquí \n 
URL:https://espaieros.com/event/circulo-de-hombres-eros-grupo-1/
LOCATION:Espai Eros\, Rocafort 39 - Entresuelo 5 - Esc. Derecha\, Barcelona\, Barcelona\, 08015\, España
CATEGORIES:Sesión de Grupo
ATTACH;FMTTYPE=image/png:https://espaieros.com/wp-content/uploads/2022/09/Talleres-Sexualidad-y-Afectividad.png
ORGANIZER;CN="Javier%20Sotomayor%20C.":MAILTO:info@javiersotomayor.org
END:VEVENT
END:VCALENDAR