BEGIN:VCALENDAR
VERSION:2.0
PRODID:-//espaieros.com - ECPv5.16.1.1//NONSGML v1.0//EN
CALSCALE:GREGORIAN
METHOD:PUBLISH
X-ORIGINAL-URL:https://espaieros.com
X-WR-CALDESC:Eventos para espaieros.com
REFRESH-INTERVAL;VALUE=DURATION:PT1H
X-Robots-Tag:noindex
X-PUBLISHED-TTL:PT1H
BEGIN:VTIMEZONE
TZID:UTC
BEGIN:STANDARD
TZOFFSETFROM:+0000
TZOFFSETTO:+0000
TZNAME:UTC
DTSTART:20220101T000000
END:STANDARD
END:VTIMEZONE
BEGIN:VEVENT
DTSTART;TZID=UTC:20221116T183000
DTEND;TZID=UTC:20221116T193000
DTSTAMP:20260425T195214
CREATED:20221024T195050Z
LAST-MODIFIED:20221105T111635Z
UID:373-1668623400-1668627000@espaieros.com
SUMMARY:Comienzo del Círculo de Hombres Eros - Grupo 2
DESCRIPTION:¿Qué es el Círculo de Hombres Eros? \nLos hombres gais necesitamos un espacio seguro donde mirarnos por dentro ya que cada uno hemos vivido nuestros procesos personales de diferentes maneras y ritmos\, nuestras salidas o no del armario nos han condicionado a poder llevar la sexualidad de una manera u otra\, por lo mismo\, este espacio entre pares nos permite expresar a nivel vivencial nuestras experiencias en un ambiente íntimo y de confidencialidad.  \nPor eso en la realización de estos encuentros no existen normas ni convenios\, solo se debe respetar y preservar la confidencialidad e intimidad de los asuntos que allí se traten.  \n  \n ¿Para quienes es el Círculo de Hombres Eros? \nEste espacio es solamente para hombres Gais\, Bisexuales y otros hombres que tienen sexo con hombre\, poniendo en el debate nuevas concepciones con respecto a nuestra sexualidad\, derribar mitos\, aprender técnicas de relajación y Mindfulness\, mejora las aprensiones sobre la sexualidad en general\, orientar de la mejor manera a la población más joven que recién comienza su vida social y sexual y para los más experimentados a tener nuevas herramientas para su disfrute y estilo de vida más placentero. \n  \n ¿Cómo es el Círculo de Hombres Eros? \nEs una sesión mensual con una duración de 1 hora y está estructurado en las siguientes fases: \n\nPresentación \nDinámicas de grupo\nDesarrollo de los temas a tratar (sexualidad\, afectividad\, chemsex\, salud sexual\, ITS\, disfunciones sexuales\, etc.)\nPráctica cierre de Mindfulness\n\n  \n ¿Dónde y Cuándo es el Círculo de Hombres Eros? \n  \nGrupo 2: \nA partir del gran interés por participar hemos decidido crear un segundo grupo el tercer miércoles de cada mes\, este grupo comenzará el miércoles 16 de noviembre de 18:30h a 19:30h\, Espai Eros\, (Rocafort 39\, entresuelo 5\, Esc.Derecha\, 08015\, Barcelona) (Plazas disponibles) \n\nEs un espacio gratuito y con aforo limitado. \n  \n¿Por qué hacemos el Círculo de Hombres Eros? \nEn el CHE aprendemos a vivir y experimentar la sexualidad y afectividad a través del acompañamiento mutuo\, donde encontrarás a personas que te entiendan y que hayan vivido situaciones similares\, que podrán darte una visión que te ayudará y aportará comprensión y sabiduría.  \nTe aseguro que te vas a sentir muy bien cuando compartas algo que nunca habías contado\, algo que te hacía sentir vulnerable\, y que también lo puede estar viviendo algunos de los integrantes del círculo. \nLos objetivos del CHE son:  \nObjetivos generales:  \n\nCrear un espacio seguro de conversación entre pares para expresar\, compartir\, acompañarse en sus temas relacionados a la sexualidad y afectividad entre hombres Gais\, Bisexuales y Hombres que tienen sexo con otros Hombres.\n\nObjetivos específicos:  \n\nCompartir inquietudes y sentimientos sin ser juzgado\nExpresar y reconocer miedos y dudas\nEscuchar activamente\nAcompañar y apoyar a los demás miembros\nFortalecer el crecimiento personal\nReforzar la autoestima \nRecuperar tu confianza para establecer relaciones afectivas.\nIdentificar tus potencialidades y limitaciones\nAprender a ser creativo\, modificando las situaciones dolorosas en aprendizaje\nConfiar en tus capacidades\nPracticar el Mindfulness o conciencia plena\nAprender a ser más flexible\nAceptar tu orientación sexual y compartir tus inquietudes\nAprender a pedir ayuda.\n\nSi estas interesado ó deseas más información\, completa este formulario: \n\n  \n\n\n\n\n\n\n\n\n\n Tu nombre\n      \n Tu correo electrónico\n      \n Tu teléfono de contacto\n      \n Dónde te enteraste de nosotros?\n      \n Tu mensaje (opcional)\n      \nHe leído y acepto los Términos de servicio y la Política de privacidad (conforme a RGPD). \n \n\nTérminos de servicio\, protección de datos y política de privacidad (conforme a RGPD)
URL:https://espaieros.com/event/circulodehombreseros2/
LOCATION:Espai Eros\, Rocafort 39 - Entresuelo 5 - Esc. Derecha\, Barcelona\, Barcelona\, 08015\, España
CATEGORIES:Sesión de Grupo
ATTACH;FMTTYPE=image/jpeg:https://espaieros.com/wp-content/uploads/2022/09/pexels-ece-ak-3130394-scaled.jpg
ORGANIZER;CN="Javier%20Sotomayor%20C.":MAILTO:info@javiersotomayor.org
END:VEVENT
BEGIN:VEVENT
DTSTART;TZID=UTC:20221126T123000
DTEND;TZID=UTC:20221126T133000
DTSTAMP:20260425T195214
CREATED:20221024T212714Z
LAST-MODIFIED:20221105T135004Z
UID:427-1669465800-1669469400@espaieros.com
SUMMARY:Charla: "Cambios en la respuesta sexual en hombres a partir de los 40's"
DESCRIPTION:Charla – Conversatorio sobre los “Cambios en la respuesta sexual en hombres a partir de los 40’s” \nImpartida por el Dr. Juan López De Santa María\, donde abordara los cambios que experimentamos los hombres en nuestra respuesta sexual a partir de los 40 años. \nComo se modifica la respuesta sexual en las diferentes fases\, Deseo\, Excitación \, Meseta\, Orgasmo\, Resolución y Periodo Refractario\, además de una pequeña descripción de las disfunciones sexuales asociadas. \nCómo identificar los primeros síntomas de una disfunción sexual. \n  \n\n \n  \nEl Dr. Juan López De Santa María\, es Médico Cirujano Universidad de Chile – Especialista en Urología Universidad de Chile\, Magister Sexología Universidad de Santiago. en Disfunciones Sexuales. \n\nLleva más de 15 años de consultas clínicas. \nAdemás de Profesor de Post Grado Universidad de Santiago / Profesor y Coordinador de Docencia Post Grado Conac / Director Unidad de Disfunciones Sexuales Clínica Uromed / Socio Fundador Clínica Uromed de Santiago de Chile. \n  \n ¿Dónde y Cuándo es el Círculo de Hombres Eros? \nEn Espai Eros\, (Rocafort 39\, entresuelo 5\, Esc.Derecha\, 08015\, Barcelona) el sábado  26 de noviembre de 12:00h a 13:30h\,  (Plazas disponibles) \nEs una charla gratuita y con aforo limitado. \nTambién transmitiremos via Streaming. \n\n  \nSi estás interesado en participar en forma presencial o vía conexión Streaming debes enviar un mail a: info@espaieros.com 
URL:https://espaieros.com/event/charlarespuestasexualenhombres/
LOCATION:Espai Eros\, Rocafort 39 - Entresuelo 5 - Esc. Derecha\, Barcelona\, Barcelona\, 08015\, España
CATEGORIES:Charlas
ATTACH;FMTTYPE=image/jpeg:https://espaieros.com/wp-content/uploads/2022/10/3.jpg
ORGANIZER;CN="Javier%20Sotomayor%20C.":MAILTO:info@javiersotomayor.org
END:VEVENT
END:VCALENDAR