BEGIN:VCALENDAR
VERSION:2.0
PRODID:-//espaieros.com - ECPv5.16.1.1//NONSGML v1.0//EN
CALSCALE:GREGORIAN
METHOD:PUBLISH
X-WR-CALNAME:espaieros.com
X-ORIGINAL-URL:https://espaieros.com
X-WR-CALDESC:Eventos para espaieros.com
REFRESH-INTERVAL;VALUE=DURATION:PT1H
X-Robots-Tag:noindex
X-PUBLISHED-TTL:PT1H
BEGIN:VTIMEZONE
TZID:UTC
BEGIN:STANDARD
TZOFFSETFROM:+0000
TZOFFSETTO:+0000
TZNAME:UTC
DTSTART:20220101T000000
END:STANDARD
END:VTIMEZONE
BEGIN:VEVENT
DTSTART;TZID=UTC:20221105T110000
DTEND;TZID=UTC:20221105T143000
DTSTAMP:20260424T235943
CREATED:20221025T171634Z
LAST-MODIFIED:20221025T175903Z
UID:452-1667646000-1667658600@espaieros.com
SUMMARY:Yoga Open House
DESCRIPTION:Yoga Open House 05.11.22\n  \nTe invitamos a que pruebes nuestras clases de yoga en una jornada de puertas abiertas! \nRealizaremos dos prácticas guiada por Jair Moreno instructor certificado de Yoga\, especialidad Ashtanga\, Vinyasa\, Hatha\, yin yoga y restaurativa. \n\n11:00h Vinyasa Flow\n13:00h Vinyasa Flow\n\nAforo limitado – Reservas al 656816723 ó al mail: jair.aaron.moreno@gmail.com \n 
URL:https://espaieros.com/event/yogaopenhouse/
LOCATION:Espai Eros\, Rocafort 39 - Entresuelo 5 - Esc. Derecha\, Barcelona\, Barcelona\, 08015\, España
CATEGORIES:Yoga
ATTACH;FMTTYPE=image/png:https://espaieros.com/wp-content/uploads/2022/10/Yoga-Open-House.png
ORGANIZER;CN="Jair%20Moreno":MAILTO:jair.aaron.moreno@gmail.com
END:VEVENT
END:VCALENDAR